BEGIN:VCALENDAR
VERSION:2.0
PRODID:-//Parafia Najświętszego Serca Pana Jezusa w Kłodnicy Dolnej - ECPv6.0.5//NONSGML v1.0//EN
CALSCALE:GREGORIAN
METHOD:PUBLISH
X-ORIGINAL-URL:https://klodnica.pl
X-WR-CALDESC:Wydarzenia dla Parafia Najświętszego Serca Pana Jezusa w Kłodnicy Dolnej
REFRESH-INTERVAL;VALUE=DURATION:PT1H
X-Robots-Tag:noindex
X-PUBLISHED-TTL:PT1H
BEGIN:VTIMEZONE
TZID:Europe/Warsaw
BEGIN:DAYLIGHT
TZOFFSETFROM:+0100
TZOFFSETTO:+0200
TZNAME:CEST
DTSTART:20260329T010000
END:DAYLIGHT
BEGIN:STANDARD
TZOFFSETFROM:+0200
TZOFFSETTO:+0100
TZNAME:CET
DTSTART:20261025T010000
END:STANDARD
END:VTIMEZONE
BEGIN:VEVENT
DTSTART;VALUE=DATE:20260406
DTEND;VALUE=DATE:20260413
DTSTAMP:20260424T235223
CREATED:20260407T184707Z
LAST-MODIFIED:20260413T194946Z
UID:18916-1775433600-1776038399@klodnica.pl
SUMMARY:Intencje mszalne 07-12.04.2025 r.
DESCRIPTION:INTENCJE MSZALNE  07-12.04.2025 R. \nWTOREK – 07.04.2026 R. \n  7.00 +Czesław i Małgorzata Wójcik; of. KD \n18.00 +Jan i Aniela Chołody; of. rodzina \nŚRODA – 08.04.2026 R. \n  7.00 +Franciszka Jamróz\, Stanisław; of. KG \n  7.30 +Bolesław Dobrzyński; of. rodz. Dobrzyńskich \n18.00 +Zygmunt Biszczak; of. wnuk Łukasz \nCZWARTEK – 09.04.2026 R. \n  7.00 +Joanna Janczarek; of. ciocia Janina z Kol. Borzechów \n  7.30 +Marianna Wąsik; of. Koło Różańcowe św. Barbary z KG \n18.00 +Mieczysław Jędyk\, Jan Gałat; of. KG \nPIĄTEK – 10.04.2026 R. \n  7.00 +Helena\, Wojciech\, zm. z rodz. Toporowskich i Wąsików; of. KG \n18.00 +Filip Siwko (im.); of. rodz. Kloców \nSOBOTA – 11.04.2026 R. \n  7.00 Dziękczynna z racji 18 r. ur. Julii Dudzik; of. rodzice \n18.00 Dziękczynna z racji  1 r. ur. Marcelego Chmury; of. KD \nNIEDZIELA – 12.04.2026 R. – NIEDZIELA MIŁOSIERDZIA BOŻEGO \n  7.30 +Ryszard Dudziński; of. KG \n  7.30 +Henryk Dudzisz (33r.)\, Genowefa; of. Krzysztof Całka \n  9.30 +Henryk Wójcik; of. chrześnica z Wilkołaza \n  9.30 Dziękczynna z racji 30 r. ślubu Reginy i Marcina Czarneckich; of. dzieci \n11.30 Dziękczynna z racji 89 r. ur. Zofii Koral; of. rodzina \n11.30 +Łukasz Przychodzeń; of. rodz. Janików z Kępy
URL:https://klodnica.pl/ogloszenie/intencje-mszalne-07-12-04-2025-r/
CATEGORIES:Ogłoszenia archiwalne
ATTACH;FMTTYPE=image/png:https://klodnica.pl/wp-content/uploads/2025/09/63392458-C45D-44B1-A39A-5F916A608F0B.png
END:VEVENT
BEGIN:VEVENT
DTSTART;VALUE=DATE:20260406
DTEND;VALUE=DATE:20260413
DTSTAMP:20260424T235223
CREATED:20260407T184318Z
LAST-MODIFIED:20260413T194951Z
UID:18913-1775433600-1776038399@klodnica.pl
SUMMARY:Ogłoszenia duszpasterskie Poniedziałek Wielkanocny – 06.04.2026 R.
DESCRIPTION:OGŁOSZENIA DUSZPASTERSKIE  \nPoniedziałek Wielkanocny – 06.04.2026 R. \n1. Aby celebracja Triduum Paschalnego miała właściwą sobie głębię i piękno\, wymaga zaangażowania całej wspólnoty parafialnej. Dziękuję wszystkim\, którzy podjęli troskę o przygotowanie duchowe do świąt paschalnych. Za udział w nabożeństwach Wielkiego Postu\, przeżycie wielkopostnych rekolekcji\, spowiedź i te wszystkie praktyki\, które służyły pogłębieniu wiary i właściwemu przygotowaniu się do świąt. Dziękuję za Waszą obecność i wspólnotę modlitwy w poszczególne dni Triduum Sacrum.\nDziękuję za prace przy wystroju świątecznym kościoła i przy sprzątaniu naszej świątyni\, w które zaangażowali się: s. Czesława\, Dorota Gałat\, Katarzyna Janik\, Barbara Jędrasik\, Jadwiga Pałka\, Jadwiga Pęcak\, Elżbieta Piejak\, Agata Sobka\, Ewelina Sosnowska\, Halina Szady\, Anna Wąsik\, Agnieszka Wierzchowska\, Bożena Wierzchowska\, Wiesława Woleń\, Mariusz Brodacz\, Andrzej Chmura\, Grzegorz Dubil\, Marian Dziurda\, Paweł Kloc\, Zbigniew Pęcak\, Sylwester Seroka\, Paweł Wójcik. \nBarbarze Jędrasik i Ewelinie Sosnowskiej  dziękuję za świąteczną dekorację kwiatową w kościele. \nZbigniewowi Pęcakowi dziękuję za przygotowanie ogniska przed Wigilią Paschalną. \nDziękuję za zaangażowanie w celebracje poszczególnych dni Triduum Sacrum nadzwyczajnym szafarzom komunii świętej Tomaszowi i Adamowi\, ceremoniarzom Dawidowi i Piotrowi wraz z Liturgiczną Służbą Ołtarza – naszymi lektorami i ministrantami\, Panu Organiście Pawłowi Droździe\, chórowi parafialnemu i scholii parafialnej. \nDziękuję naszym Strażakom\, Młodzieżowej Drużynie Pożarniczej i strażackim dzieciom za podjęte przy grobie czuwanie i uroczystą\, wraz z pocztami sztandarowymi straż w czasie Mszy rezurekcyjnej. \n2. Na parafialnym facebook’u są dostępne relacje z poszczególnych celebracji Triduum Paschalnego. Zachęcam do obejrzenia.\n3. Dla dzieci pierwszokomunijnych próba w czwartek o godz. 16.30.\n4. Dziękuję za złożone dzisiaj ofiary na tacę na KUL oraz za wszystkie ofiary złożone podczas świąt. Bóg zapłać!
URL:https://klodnica.pl/ogloszenie/ogloszenia-duszpasterskie-poniedzialek-wielkanocny-06-04-2026-r/
CATEGORIES:Ogłoszenia archiwalne
ATTACH;FMTTYPE=image/jpeg:https://klodnica.pl/wp-content/uploads/2025/09/att.kQcGM-seQho6brDDCQuKJVgwdkIMt64AK4qAdHmMNEk.jpeg
END:VEVENT
BEGIN:VEVENT
DTSTART;VALUE=DATE:20260413
DTEND;VALUE=DATE:20260420
DTSTAMP:20260424T235223
CREATED:20260413T195128Z
LAST-MODIFIED:20260420T100258Z
UID:18920-1776038400-1776643199@klodnica.pl
SUMMARY:Ogłoszenia duszpasterskie Niedziela Miłosierdzia - 12.04.2026 r.
DESCRIPTION:OGŁOSZENIA DUSZPASTERSKIE  \nNiedziela Miłosierdzia – 12.04.2026 R. \n\nDla dzieci pierwszokomunijnych próba we wtorek o godz. 16.30.\nSpotkanie Rady Parafialnej w środę o godz. 19.00. Serdecznie zapraszam radnych na plebanię.\nDziękuję za prace porządkowe na cmentarzu. Pracowali: Sylwester i Piotr Taramas i Marek Tykło.\nZapowiedzi przedślubne: Bednara Przemysław z Zalesia\, par. św. Jana Chrzciciela w Wilkołazie i Hołody Natalia z Ryczydołu\, par. tut. – zapowiedź pierwsza.\nDziękuję za złożone dzisiaj na tacę ofiary. Bóg zapłać! W przyszłą – trzecią niedzielę miesiąca – taca na cele gospodarcze w parafii.\nZ racji święta patronalnego Caritas\, przed kościołem zbiórka na Fundusz Caritas.\n Jutro o godz. 14.00 odbędzie się pogrzeb Feliksa Andrzeja Piejaka z Kłodnicy Górnej. Różaniec za Zmarłego o godz. 13.30. Polećmy śp. Feliksa Bożemu Miłosierdziu: Wieczny odpoczynek racz mu dać Panie\, a światłość wiekuista niechaj mu świeci. Niech odpoczywa w pokoju wiecznym. Amen.
URL:https://klodnica.pl/ogloszenie/ogloszenia-duszpasterskie-niedziela-milosierdzia-12-04-2026-r/
CATEGORIES:Ogłoszenia archiwalne
ATTACH;FMTTYPE=image/jpeg:https://klodnica.pl/wp-content/uploads/2025/09/att.kQcGM-seQho6brDDCQuKJVgwdkIMt64AK4qAdHmMNEk.jpeg
END:VEVENT
BEGIN:VEVENT
DTSTART;VALUE=DATE:20260413
DTEND;VALUE=DATE:20260420
DTSTAMP:20260424T235223
CREATED:20260413T195246Z
LAST-MODIFIED:20260420T100250Z
UID:18922-1776038400-1776643199@klodnica.pl
SUMMARY:Intencje mszalne 13-19.04.2026 r.
DESCRIPTION:INTENCJE MSZALNE 13-19.04.2026 R.  \nPONIEDZIAŁEK – 13.04.2026 R. \n 18.00 +Stanisław Brodacz (40r.)\, Helena\, Stefania Brodacz; of. KG \nWTOREK – 14.04.2026 R. \n7.00 +Ryszard Wąsik; of. koledzy Piotr i Jerzy \n7.30 +Helena Janczarek; of. rodz. Dziewulskich z Leszczyny \n18.00 +Janina Dziewulska; of. Ryszard Gałat \n ŚRODA – 15.04.2026 R. \n7.00 +Genowefa i Alojzy Chojnaccy; of. Dąbrowa \n 18.00 +Jerzy Sosnowski; of. Ewelina i Michał Śliwka \nCZWARTEK – 16.04.2026 R.  \n7.00 Dziękczynna z racji 43 r. ślubu Bernadetty i Zygmunta Okuniewskich; of. Dobrowola \n18.00 +Zygmunt Biszczak; of. OSP Kłodnica \nPIĄTEK – 17.04.2026 R.  \n7.00 +Jan Kozakowski (r.)\, Stanisława\, Sabina\, Marian\, Jadwiga i zm. z rodz. Kozakowskich; of. KG \n18.00 +Henryk Wójcik; of. rodz. Dziewulskich z Dąbrowy \nSOBOTA – 18.04.2026 R.  \n 7.00 +Stanisława Bieniek\, Franciszka i Bartłomiej Wysoccy\, Maria i Jan Bieniek; of. Ryczydół \n18.00 +Maria Dziewulska; of. syn Janusz z rodz. z Dąbrowy \nNIEDZIELA – 19.04.2026 R.  \n7.30 W intencji Bogu wiadomej;  \n7.30 Dziękczynna z racji 40 r. ślubu Ewy i Leszka Gołosiów; of. Dobrowola \n9.30 +Zofia Całka (5r.)\, Stanisław\, Helena\, Jakub; of. rodzina \n9.30 Dziękczynna z racji 1 r. urodzin Marcelego Chmury; of. KD \n 11.30 +Bronisława (r.)\, Jan\, Ryszard\, ks. Stanisław\, zm. z rodz. Wąsików\, Sabina i Tadeusz z rodz. Wójcików; of. KG \n11.30 +Marcin\, Marianna Daniel; of. Białawoda \n 
URL:https://klodnica.pl/ogloszenie/intencje-mszalne-13-19-04-2026-r/
CATEGORIES:Ogłoszenia archiwalne
ATTACH;FMTTYPE=image/png:https://klodnica.pl/wp-content/uploads/2025/09/63392458-C45D-44B1-A39A-5F916A608F0B.png
END:VEVENT
BEGIN:VEVENT
DTSTART;VALUE=DATE:20260418
DTEND;VALUE=DATE:20260427
DTSTAMP:20260424T235223
CREATED:20260420T115356Z
LAST-MODIFIED:20260420T142413Z
UID:18929-1776470400-1777247999@klodnica.pl
SUMMARY:Intencje mszalne 20-26.04.2025 r.
DESCRIPTION:INTENCJE MSZALNE 20-26.04.2025 R.  \nPONIEDZIAŁEK – 20.04.2026 R. \n 18.00 +Maria Łopaciak; of. rodz. Latosów \nWTOREK – 21.04.2026 R. \n7.00 +Natalia Oblak; of. Dąbrowa \n18.00 +Józef Sapuła (r.)\, Monika\, Małgorzata i zm. z rodz.; of. Kol. KD \n ŚRODA – 22.04.2026 R. \n7.00 +Teodora\, Aleksander Pęcak; of. KD \n7.30 +Marianna Wąsik; of. KGW „Pszczółki” z KG \n 18.00 +Marian Kasperski (15r.); of. KD \nCZWARTEK – 23.04.2026 R.  \n7.00 +Janina Wójcik (r.); of. Osina \n18.00 Dziękczynna z racji 32 r. ślubu Iwony i Zbigniewa Pęcaków; of. Dobrowola \nPIĄTEK – 24.04.2026 R.  \n7.00 +Maria Wilmowska; of. koleżanki i koledzy z klasy \n14.00 Msza św. z racji gminnych obchodów Dnia Strażaka z poświęceniem samochodu pożarniczo-gaśniczego OSP Kłodnica; \n18.00 +Helena Kapica\, Kazimierz\, Marianna\, Władysław; of. Kol. KD \nSOBOTA – 25.04.2026 R.  \n 7.00 +Teofila i Józef Siedleccy; of. KG \n18.00 +Jan Kozakowski; of. Anna Dudzińska i r. Murlaków \nNIEDZIELA – 26.04.2026 R.  \n7.30 +Maria Dziewulska; of. Wanda Jędrasik \n7.30 +Zofia\, Józef\, Stanisława; of. Osina \n9.30 Za Parafian; \n9.30 +Łukasz Przychodzeń; of. rodz. Kułagów \n9.30 +Maria Wilmowska; of. uczestnicy pogrzebu \n11.30 Dziękczynna z racji 18 r. ur. Oliwiera Skiby; of. rodzina \n11.30 +Jan Mędykowski (r.)\, Marianna\, Zdzisław\, Krzysztof\, Antonina\, Bolesław\, zm. z rodz. Mędykowskich i Pastuszaków; of. Osina \n 11.30 +Izabela Gałat (4r.); of. córka Agnieszka z rodz.
URL:https://klodnica.pl/ogloszenie/intencje-mszalne-20-26-04-2025-r/
CATEGORIES:Ogłoszenia
ATTACH;FMTTYPE=image/png:https://klodnica.pl/wp-content/uploads/2025/09/63392458-C45D-44B1-A39A-5F916A608F0B.png
END:VEVENT
BEGIN:VEVENT
DTSTART;VALUE=DATE:20260418
DTEND;VALUE=DATE:20260427
DTSTAMP:20260424T235223
CREATED:20260420T115554Z
LAST-MODIFIED:20260420T142349Z
UID:18931-1776470400-1777247999@klodnica.pl
SUMMARY:Ogłoszenia duszpasterskie Niedziela Miłosierdzia - 12.04.2026 r.
DESCRIPTION:OGŁOSZENIA DUSZPASTERSKIE  \nNiedziela Miłosierdzia – 12.04.2026 R. \n\nMsza św. z racji gminnych obchodów Dnia Strażaka z poświęceniem nowego samochodu pożarniczo-gaśniczego dla jednostki OSP Kłodnica w piątek (24.04) o godz. 14.00. W związku z piątkową uroczystością przykościelne parkingi będą niedostępne dla wszystkich. Na parkingu od strony Kępy będą parkowały wozy strażackie z poszczególnych jednostek OSP naszej gminy. Parking przed kościołem będzie zarezerwowany dla wozu OSP Kłodnica i wszystkich tych\, którzy po Mszy św. zgromadzą się na poświęceniu samochodu. Proszę zatem o parkowanie samochodów na parkingu przy cmentarzu i wzdłuż drogi do niego prowadzącej. Serdecznie zapraszam wszystkich Parafian na piątkową uroczystość.\nDemontaż wystroju świątecznego i sprzątanie kościoła we wtorek (21.04) o godz. 9.00. Bardzo proszę radnych parafialnych o wyznaczenie do pracy po dwie osoby z części parafii\, których są przedstawicielami.\nWczoraj nasi ministranci wzięli udział w finałach Mistrzostw Archidiecezji Lubelskiej LSO w halową piłkę nożną. Tym razem nie udało się odnieść sukcesu. Naszą parafią reprezentowali: Marceli Brodacz\, Sebastian Domański\, Szymon Domański\, Oliwier Huzarek\, Antoni Kasperski\, Michał Paluch\, Leon Stępniak.\nDla dzieci pierwszokomunijnych próba we wtorek o godz. 16.30.\nDla strażackiej asysty próba w kościele we wtorek o godz. 19.00.\nZapowiedzi przedślubne: Bednara Przemysław z Zalesia\, par. św. Jana Chrzciciela w Wilkołazie i Hołody Natalia z Ryczydołu\, par. tut. – zapowiedź druga.\nDziękuję za złożone dzisiaj na tacę ofiary na cele gospodarcze w parafii\, jak również za ofiary indywidualne na potrzeby kościoła. Bóg zapłać! \n W środę odbył się pogrzeb śp. Pauliny Gałat z Kłodnicy Górnej. Polećmy Zmarłą Bożemu Miłosierdziu: Wieczny odpoczynek racz jej dać Panie\, a światłość wiekuista niechaj jej świeci. Niech odpoczywa w pokoju wiecznym. Amen.
URL:https://klodnica.pl/ogloszenie/ogloszenia-duszpasterskie-niedziela-milosierdzia-12-04-2026-r-2/
CATEGORIES:Ogłoszenia
ATTACH;FMTTYPE=image/jpeg:https://klodnica.pl/wp-content/uploads/2025/09/att.kQcGM-seQho6brDDCQuKJVgwdkIMt64AK4qAdHmMNEk.jpeg
END:VEVENT
END:VCALENDAR